Workbook

Sheet 说明
A1: 公务用车用油异常预警 · POC 演示工作簿
A3: 【用途】本工作簿是 POC 演示载体（非应用系统）。规则用 Excel 公式实时计算，客户用 Excel 365 / 2021 打开即可看到预警结果。
A4: 【怎么用】
A5: 1. 把真实脱敏数据填入「加油记录」表（替换示例占位行），保留表头与公式列。
A6: 2. 在「车辆基础」「油卡基础」「节假日表」「参数配置」中维护基础信息与阈值。
A7: 3. 点「加油记录」表头的筛选，按「是否预警」= 预警，即可看到全部命中记录（或用「预警汇总」看统计）。
A8: 4. 如需模拟「定时跑批」，可后续接 VBA / 计划任务；本 POC 用「手动筛选+刷新」模拟。
A10: 【6 条规则】高频加油 / 油耗超标 / 时段·节假日 / 超额度 / 车辆不匹配 / 区域异常（详见 PRD 第四章）。
A11: 【重要·待确认】阈值参数（高频次数、油耗容差%、限额、夜间时段、油箱上限）均为占位值，需用客户真实口径替换（见参数配置表「状态」列）。
A12: 【兼容】MAXIFS/COUNTIFS/SUMIFS/VLOOKUP 需 Excel 2019+；筛选功能全版本可用。
A13: 【数据质量】里程读数缺失或为空时，油耗类规则自动跳过并标记；单次加油量超油箱上限标记数据异常，不计入油耗。
A14: 【推送】本 POC 仅生成「分管领导预警清单」（见该表），真实企微/邮件推送为生产版功能。

Sheet 参数配置
A1: 参数名 | B1: 值 | C1: 说明 | D1: 状态
A2: 高频次数阈值N | B2: 2 | C2: 24小时内同车牌加油次数>=此值判高频 | D2: 待确认
A3: 油耗容差% | B3: 20 | C3: 实际油耗>定额×(1+此值/100)判超标 | D3: 待确认
A4: 夜间开始小时 | B4: 22 | C4: 加油小时>=此值 或 <夜间结束 判夜间 | D4: 待确认
A5: 夜间结束小时 | B5: 6 | C5: 见上 | D5: 待确认
A6: 油箱容量上限L | B6: 300 | C6: 单次加油量>此值判数据异常，不计入油耗 | D6: 待确认

Sheet 节假日表
A1: 日期
A2: 46023
A3: 46143
A4: 46144
A5: 46145
A6: 46296
A7: 46297
A8: 46298
A9: （示例占位，请替换为客户当年法定节假日）

Sheet 车辆基础
A1: 车牌 | B1: 车型 | C1: 绑定油卡 | D1: 常驻城市 | E1: 定额油耗L/100km | F1: 分管领导
A2: 鲁A12345 | B2: 轿车 | C2: C001 | D2: 济南 | E2: 8.5 | F2: 张总
A3: 鲁B23456 | B3: SUV | C3: C002 | D3: 青岛 | E3: 11 | F3: 李总
A4: 鲁C34567 | B4: 商务车 | C4: C003 | D4: 烟台 | E4: 9.5 | F4: 王总
A5: （示例占位，请替换为真实车辆台账）

Sheet 油卡基础
A1: 油卡号 | B1: 绑定车牌 | C1: 单笔限额元 | D1: 日限额元
A2: C001 | B2: 鲁A12345 | C2: 2000 | D2: 5000
A3: C002 | B3: 鲁B23456 | C3: 2500 | D3: 6000
A4: C003 | B4: 鲁C34567 | C4: 2000 | D4: 5000
A5: （示例占位，请替换为真实油卡台账）

Sheet 加油记录
A1: 记录ID | B1: 车牌 | C1: 油卡号 | D1: 加油时间 | E1: 城市 | F1: 加油量L | G1: 金额元 | H1: 油品 | I1: 里程读数km | J1: 节假日 | K1: 是否夜间 | L1: 前次里程 | M1: 里程差 | N1: 实际油耗 | O1: 同窗口次数 | P1: 绑定车牌 | Q1: 定额油耗 | R1: 分管领导 | S1: 单笔限额 | T1: 当日累计 | U1: 常驻城市 | V1: 是否预警 | W1: 级别 | X1: 异常类型
A2: R001 | B2: 鲁A12345 | C2: C001 | D2: 46264.375 | E2: 济南 | F2: 42.5 | G2: 300 | H2: 92 | I2: 10500 | J2: =IF(COUNTIF(节假日表!$A$2:$A$100,INT(D2)),"节","") | K2: =IF(OR(HOUR(D2)>=参数配置!$B$4,HOUR(D2)<参数配置!$B$5),"夜","") | L2: =IFERROR(MAXIFS($I$2:$I$21,$B$2:$B$21,B2,$D$2:$D$21,"<"&D2),0) | M2: =IF(L2=0,"",I2-L2) | N2: =IF(M2="","",F2/M2*100) | O2: =COUNTIFS($B$2:$B$21,B2,$D$2:$D$21,">="&D2-1)-COUNTIFS($B$2:$B$21,B2,$D$2:$D$21,">"&D2+1) | P2: =IFERROR(VLOOKUP(C2,油卡基础!$A$2:$B$21,2,FALSE),"") | Q2: =IFERROR(VLOOKUP(B2,车辆基础!$A$2:$F$21,5,FALSE),"") | R2: =IFERROR(VLOOKUP(B2,车辆基础!$A$2:$F$21,6,FALSE),"") | S2: =IFERROR(VLOOKUP(C2,油卡基础!$A$2:$D$21,3,FALSE),"") | T2: =SUMIFS($G$2:$G$21,$B$2:$B$21,B2,INT($D$2:$D$21),INT(D2)) | U2: =IFERROR(VLOOKUP(B2,车辆基础!$A$2:$F$21,4,FALSE),"") | V2: =IF(OR(O2>=参数配置!$B$2,AND(N2<>"",Q2<>"",N2>Q2*(1+参数配置!$B$3/100)),OR(J2="节",K2="夜"),AND(G2<>"",S2<>"",G2>=S2),AND(P2<>"",P2<>B2),AND(U2<>"",E2<>U2)),"预警","") | W2: =IF(V2="预警",IF(OR(AND(P2<>"",P2<>B2),AND(N2<>"",Q2<>"",N2>Q2*(1+参数配置!$B$3/100))),"高","中"),"") | X2: =TRIM(IF(O2>=参数配置!$B$2,"高频 ","")&IF(AND(N2<>"",Q2<>"",N2>Q2*(1+参数配置!$B$3/100)),"油耗超标 ","")&IF(OR(J2="节",K2="夜"),"时段/节假日 ","")&IF(AND(G2<>"",S2<>"",G2>=S2),"超额度 ","")&IF(AND(P2<>"",P2<>B2),"车辆不匹配 ","")&IF(AND(U2<>"",E2<>U2),"区域异常 ",""))
A3: R002 | B3: 鲁A12345 | C3: C001 | D3: 46268.375 | E3: 济南 | F3: 42.5 | G3: 300 | H3: 92 | I3: 11000 | J3: =IF(COUNTIF(节假日表!$A$2:$A$100,INT(D3)),"节","") | K3: =IF(OR(HOUR(D3)>=参数配置!$B$4,HOUR(D3)<参数配置!$B$5),"夜","") | L3: =IFERROR(MAXIFS($I$2:$I$21,$B$2:$B$21,B3,$D$2:$D$21,"<"&D3),0) | M3: =IF(L3=0,"",I3-L3) | N3: =IF(M3="","",F3/M3*100) | O3: =COUNTIFS($B$2:$B$21,B3,$D$2:$D$21,">="&D3-1)-COUNTIFS($B$2:$B$21,B3,$D$2:$D$21,">"&D3+1) | P3: =IFERROR(VLOOKUP(C3,油卡基础!$A$2:$B$21,2,FALSE),"") | Q3: =IFERROR(VLOOKUP(B3,车辆基础!$A$2:$F$21,5,FALSE),"") | R3: =IFERROR(VLOOKUP(B3,车辆基础!$A$2:$F$21,6,FALSE),"") | S3: =IFERROR(VLOOKUP(C3,油卡基础!$A$2:$D$21,3,FALSE),"") | T3: =SUMIFS($G$2:$G$21,$B$2:$B$21,B3,INT($D$2:$D$21),INT(D3)) | U3: =IFERROR(VLOOKUP(B3,车辆基础!$A$2:$F$21,4,FALSE),"") | V3: =IF(OR(O3>=参数配置!$B$2,AND(N3<>"",Q3<>"",N3>Q3*(1+参数配置!$B$3/100)),OR(J3="节",K3="夜"),AND(G3<>"",S3<>"",G3>=S3),AND(P3<>"",P3<>B3),AND(U3<>"",E3<>U3)),"预警","") | W3: =IF(V3="预警",IF(OR(AND(P3<>"",P3<>B3),AND(N3<>"",Q3<>"",N3>Q3*(1+参数配置!$B$3/100))),"高","中"),"") | X3: =TRIM(IF(O3>=参数配置!$B$2,"高频 ","")&IF(AND(N3<>"",Q3<>"",N3>Q3*(1+参数配置!$B$3/100)),"油耗超标 ","")&IF(OR(J3="节",K3="夜"),"时段/节假日 ","")&IF(AND(G3<>"",S3<>"",G3>=S3),"超额度 ","")&IF(AND(P3<>"",P3<>B3),"车辆不匹配 ","")&IF(AND(U3<>"",E3<>U3),"区域异常 ",""))
A4: R003 | B4: 鲁A12345 | C4: C001 | D4: 46272.375 | E4: 济南 | F4: 42.5 | G4: 300 | H4: 92 | I4: 11500 | J4: =IF(COUNTIF(节假日表!$A$2:$A$100,INT(D4)),"节","") | K4: =IF(OR(HOUR(D4)>=参数配置!$B$4,HOUR(D4)<参数配置!$B$5),"夜","") | L4: =IFERROR(MAXIFS($I$2:$I$21,$B$2:$B$21,B4,$D$2:$D$21,"<"&D4),0) | M4: =IF(L4=0,"",I4-L4) | N4: =IF(M4="","",F4/M4*100) | O4: =COUNTIFS($B$2:$B$21,B4,$D$2:$D$21,">="&D4-1)-COUNTIFS($B$2:$B$21,B4,$D$2:$D$21,">"&D4+1) | P4: =IFERROR(VLOOKUP(C4,油卡基础!$A$2:$B$21,2,FALSE),"") | Q4: =IFERROR(VLOOKUP(B4,车辆基础!$A$2:$F$21,5,FALSE),"") | R4: =IFERROR(VLOOKUP(B4,车辆基础!$A$2:$F$21,6,FALSE),"") | S4: =IFERROR(VLOOKUP(C4,油卡基础!$A$2:$D$21,3,FALSE),"") | T4: =SUMIFS($G$2:$G$21,$B$2:$B$21,B4,INT($D$2:$D$21),INT(D4)) | U4: =IFERROR(VLOOKUP(B4,车辆基础!$A$2:$F$21,4,FALSE),"") | V4: =IF(OR(O4>=参数配置!$B$2,AND(N4<>"",Q4<>"",N4>Q4*(1+参数配置!$B$3/100)),OR(J4="节",K4="夜"),AND(G4<>"",S4<>"",G4>=S4),AND(P4<>"",P4<>B4),AND(U4<>"",E4<>U4)),"预警","") | W4: =IF(V4="预警",IF(OR(AND(P4<>"",P4<>B4),AND(N4<>"",Q4<>"",N4>Q4*(1+参数配置!$B$3/100))),"高","中"),"") | X4: =TRIM(IF(O4>=参数配置!$B$2,"高频 ","")&IF(AND(N4<>"",Q4<>"",N4>Q4*(1+参数配置!$B$3/100)),"油耗超标 ","")&IF(OR(J4="节",K4="夜"),"时段/节假日 ","")&IF(AND(G4<>"",S4<>"",G4>=S4),"超额度 ","")&IF(AND(P4<>"",P4<>B4),"车辆不匹配 ","")&IF(AND(U4<>"",E4<>U4),"区域异常 ",""))
A5: R004 | B5: 鲁A12345 | C5: C001 | D5: 46276.375 | E5: 济南 | F5: 42.5 | G5: 300 | H5: 92 | I5: 12000 | J5: =IF(COUNTIF(节假日表!$A$2:$A$100,INT(D5)),"节","") | K5: =IF(OR(HOUR(D5)>=参数配置!$B$4,HOUR(D5)<参数配置!$B$5),"夜","") | L5: =IFERROR(MAXIFS($I$2:$I$21,$B$2:$B$21,B5,$D$2:$D$21,"<"&D5),0) | M5: =IF(L5=0,"",I5-L5) | N5: =IF(M5="","",F5/M5*100) | O5: =COUNTIFS($B$2:$B$21,B5,$D$2:$D$21,">="&D5-1)-COUNTIFS($B$2:$B$21,B5,$D$2:$D$21,">"&D5+1) | P5: =IFERROR(VLOOKUP(C5,油卡基础!$A$2:$B$21,2,FALSE),"") | Q5: =IFERROR(VLOOKUP(B5,车辆基础!$A$2:$F$21,5,FALSE),"") | R5: =IFERROR(VLOOKUP(B5,车辆基础!$A$2:$F$21,6,FALSE),"") | S5: =IFERROR(VLOOKUP(C5,油卡基础!$A$2:$D$21,3,FALSE),"") | T5: =SUMIFS($G$2:$G$21,$B$2:$B$21,B5,INT($D$2:$D$21),INT(D5)) | U5: =IFERROR(VLOOKUP(B5,车辆基础!$A$2:$F$21,4,FALSE),"") | V5: =IF(OR(O5>=参数配置!$B$2,AND(N5<>"",Q5<>"",N5>Q5*(1+参数配置!$B$3/100)),OR(J5="节",K5="夜"),AND(G5<>"",S5<>"",G5>=S5),AND(P5<>"",P5<>B5),AND(U5<>"",E5<>U5)),"预警","") | W5: =IF(V5="预警",IF(OR(AND(P5<>"",P5<>B5),AND(N5<>"",Q5<>"",N5>Q5*(1+参数配置!$B$3/100))),"高","中"),"") | X5: =TRIM(IF(O5>=参数配置!$B$2,"高频 ","")&IF(AND(N5<>"",Q5<>"",N5>Q5*(1+参数配置!$B$3/100)),"油耗超标 ","")&IF(OR(J5="节",K5="夜"),"时段/节假日 ","")&IF(AND(G5<>"",S5<>"",G5>=S5),"超额度 ","")&IF(AND(P5<>"",P5<>B5),"车辆不匹配 ","")&IF(AND(U5<>"",E5<>U5),"区域异常 ",""))
A6: R005 | B6: 鲁A12345 | C6: C001 | D6: 46280.375 | E6: 济南 | F6: 42.5 | G6: 300 | H6: 92 | I6: 12500 | J6: =IF(COUNTIF(节假日表!$A$2:$A$100,INT(D6)),"节","") | K6: =IF(OR(HOUR(D6)>=参数配置!$B$4,HOUR(D6)<参数配置!$B$5),"夜","") | L6: =IFERROR(MAXIFS($I$2:$I$21,$B$2:$B$21,B6,$D$2:$D$21,"<"&D6),0) | M6: =IF(L6=0,"",I6-L6) | N6: =IF(M6="","",F6/M6*100) | O6: =COUNTIFS($B$2:$B$21,B6,$D$2:$D$21,">="&D6-1)-COUNTIFS($B$2:$B$21,B6,$D$2:$D$21,">"&D6+1) | P6: =IFERROR(VLOOKUP(C6,油卡基础!$A$2:$B$21,2,FALSE),"") | Q6: =IFERROR(VLOOKUP(B6,车辆基础!$A$2:$F$21,5,FALSE),"") | R6: =IFERROR(VLOOKUP(B6,车辆基础!$A$2:$F$21,6,FALSE),"") | S6: =IFERROR(VLOOKUP(C6,油卡基础!$A$2:$D$21,3,FALSE),"") | T6: =SUMIFS($G$2:$G$21,$B$2:$B$21,B6,INT($D$2:$D$21),INT(D6)) | U6: =IFERROR(VLOOKUP(B6,车辆基础!$A$2:$F$21,4,FALSE),"") | V6: =IF(OR(O6>=参数配置!$B$2,AND(N6<>"",Q6<>"",N6>Q6*(1+参数配置!$B$3/100)),OR(J6="节",K6="夜"),AND(G6<>"",S6<>"",G6>=S6),AND(P6<>"",P6<>B6),AND(U6<>"",E6<>U6)),"预警","") | W6: =IF(V6="预警",IF(OR(AND(P6<>"",P6<>B6),AND(N6<>"",Q6<>"",N6>Q6*(1+参数配置!$B$3/100))),"高","中"),"") | X6: =TRIM(IF(O6>=参数配置!$B$2,"高频 ","")&IF(AND(N6<>"",Q6<>"",N6>Q6*(1+参数配置!$B$3/100)),"油耗超标 ","")&IF(OR(J6="节",K6="夜"),"时段/节假日 ","")&IF(AND(G6<>"",S6<>"",G6>=S6),"超额度 ","")&IF(AND(P6<>"",P6<>B6),"车辆不匹配 ","")&IF(AND(U6<>"",E6<>U6),"区域异常 ",""))
A7: R006 | B7: 鲁A12345 | C7: C001 | D7: 46284.375 | E7: 济南 | F7: 42.5 | G7: 300 | H7: 92 | I7: 13000 | J7: =IF(COUNTIF(节假日表!$A$2:$A$100,INT(D7)),"节","") | K7: =IF(OR(HOUR(D7)>=参数配置!$B$4,HOUR(D7)<参数配置!$B$5),"夜","") | L7: =IFERROR(MAXIFS($I$2:$I$21,$B$2:$B$21,B7,$D$2:$D$21,"<"&D7),0) | M7: =IF(L7=0,"",I7-L7) | N7: =IF(M7="","",F7/M7*100) | O7: =COUNTIFS($B$2:$B$21,B7,$D$2:$D$21,">="&D7-1)-COUNTIFS($B$2:$B$21,B7,$D$2:$D$21,">"&D7+1) | P7: =IFERROR(VLOOKUP(C7,油卡基础!$A$2:$B$21,2,FALSE),"") | Q7: =IFERROR(VLOOKUP(B7,车辆基础!$A$2:$F$21,5,FALSE),"") | R7: =IFERROR(VLOOKUP(B7,车辆基础!$A$2:$F$21,6,FALSE),"") | S7: =IFERROR(VLOOKUP(C7,油卡基础!$A$2:$D$21,3,FALSE),"") | T7: =SUMIFS($G$2:$G$21,$B$2:$B$21,B7,INT($D$2:$D$21),INT(D7)) | U7: =IFERROR(VLOOKUP(B7,车辆基础!$A$2:$F$21,4,FALSE),"") | V7: =IF(OR(O7>=参数配置!$B$2,AND(N7<>"",Q7<>"",N7>Q7*(1+参数配置!$B$3/100)),OR(J7="节",K7="夜"),AND(G7<>"",S7<>"",G7>=S7),AND(P7<>"",P7<>B7),AND(U7<>"",E7<>U7)),"预警","") | W7: =IF(V7="预警",IF(OR(AND(P7<>"",P7<>B7),AND(N7<>"",Q7<>"",N7>Q7*(1+参数配置!$B$3/100))),"高","中"),"") | X7: =TRIM(IF(O7>=参数配置!$B$2,"高频 ","")&IF(AND(N7<>"",Q7<>"",N7>Q7*(1+参数配置!$B$3/100)),"油耗超标 ","")&IF(OR(J7="节",K7="夜"),"时段/节假日 ","")&IF(AND(G7<>"",S7<>"",G7>=S7),"超额度 ","")&IF(AND(P7<>"",P7<>B7),"车辆不匹配 ","")&IF(AND(U7<>"",E7<>U7),"区域异常 ",""))
A8: R007 | B8: 鲁A12345 | C8: C001 | D8: 46287.375 | E8: 济南 | F8: 42.5 | G8: 300 | H8: 92 | I8: 13500 | J8: =IF(COUNTIF(节假日表!$A$2:$A$100,INT(D8)),"节","") | K8: =IF(OR(HOUR(D8)>=参数配置!$B$4,HOUR(D8)<参数配置!$B$5),"夜","") | L8: =IFERROR(MAXIFS($I$2:$I$21,$B$2:$B$21,B8,$D$2:$D$21,"<"&D8),0) | M8: =IF(L8=0,"",I8-L8) | N8: =IF(M8="","",F8/M8*100) | O8: =COUNTIFS($B$2:$B$21,B8,$D$2:$D$21,">="&D8-1)-COUNTIFS($B$2:$B$21,B8,$D$2:$D$21,">"&D8+1) | P8: =IFERROR(VLOOKUP(C8,油卡基础!$A$2:$B$21,2,FALSE),"") | Q8: =IFERROR(VLOOKUP(B8,车辆基础!$A$2:$F$21,5,FALSE),"") | R8: =IFERROR(VLOOKUP(B8,车辆基础!$A$2:$F$21,6,FALSE),"") | S8: =IFERROR(VLOOKUP(C8,油卡基础!$A$2:$D$21,3,FALSE),"") | T8: =SUMIFS($G$2:$G$21,$B$2:$B$21,B8,INT($D$2:$D$21),INT(D8)) | U8: =IFERROR(VLOOKUP(B8,车辆基础!$A$2:$F$21,4,FALSE),"") | V8: =IF(OR(O8>=参数配置!$B$2,AND(N8<>"",Q8<>"",N8>Q8*(1+参数配置!$B$3/100)),OR(J8="节",K8="夜"),AND(G8<>"",S8<>"",G8>=S8),AND(P8<>"",P8<>B8),AND(U8<>"",E8<>U8)),"预警","") | W8: =IF(V8="预警",IF(OR(AND(P8<>"",P8<>B8),AND(N8<>"",Q8<>"",N8>Q8*(1+参数配置!$B$3/100))),"高","中"),"") | X8: =TRIM(IF(O8>=参数配置!$B$2,"高频 ","")&IF(AND(N8<>"",Q8<>"",N8>Q8*(1+参数配置!$B$3/100)),"油耗超标 ","")&IF(OR(J8="节",K8="夜"),"时段/节假日 ","")&IF(AND(G8<>"",S8<>"",G8>=S8),"超额度 ","")&IF(AND(P8<>"",P8<>B8),"车辆不匹配 ","")&IF(AND(U8<>"",E8<>U8),"区域异常 ",""))
A9: R008 | B9: 鲁A12345 | C9: C001 | D9: 46287.833 | E9: 济南 | F9: 42.5 | G9: 300 | H9: 92 | I9: 13500 | J9: =IF(COUNTIF(节假日表!$A$2:$A$100,INT(D9)),"节","") | K9: =IF(OR(HOUR(D9)>=参数配置!$B$4,HOUR(D9)<参数配置!$B$5),"夜","") | L9: =IFERROR(MAXIFS($I$2:$I$21,$B$2:$B$21,B9,$D$2:$D$21,"<"&D9),0) | M9: =IF(L9=0,"",I9-L9) | N9: =IF(M9="","",F9/M9*100) | O9: =COUNTIFS($B$2:$B$21,B9,$D$2:$D$21,">="&D9-1)-COUNTIFS($B$2:$B$21,B9,$D$2:$D$21,">"&D9+1) | P9: =IFERROR(VLOOKUP(C9,油卡基础!$A$2:$B$21,2,FALSE),"") | Q9: =IFERROR(VLOOKUP(B9,车辆基础!$A$2:$F$21,5,FALSE),"") | R9: =IFERROR(VLOOKUP(B9,车辆基础!$A$2:$F$21,6,FALSE),"") | S9: =IFERROR(VLOOKUP(C9,油卡基础!$A$2:$D$21,3,FALSE),"") | T9: =SUMIFS($G$2:$G$21,$B$2:$B$21,B9,INT($D$2:$D$21),INT(D9)) | U9: =IFERROR(VLOOKUP(B9,车辆基础!$A$2:$F$21,4,FALSE),"") | V9: =IF(OR(O9>=参数配置!$B$2,AND(N9<>"",Q9<>"",N9>Q9*(1+参数配置!$B$3/100)),OR(J9="节",K9="夜"),AND(G9<>"",S9<>"",G9>=S9),AND(P9<>"",P9<>B9),AND(U9<>"",E9<>U9)),"预警","") | W9: =IF(V9="预警",IF(OR(AND(P9<>"",P9<>B9),AND(N9<>"",Q9<>"",N9>Q9*(1+参数配置!$B$3/100))),"高","中"),"") | X9: =TRIM(IF(O9>=参数配置!$B$2,"高频 ","")&IF(AND(N9<>"",Q9<>"",N9>Q9*(1+参数配置!$B$3/100)),"油耗超标 ","")&IF(OR(J9="节",K9="夜"),"时段/节假日 ","")&IF(AND(G9<>"",S9<>"",G9>=S9),"超额度 ","")&IF(AND(P9<>"",P9<>B9),"车辆不匹配 ","")&IF(AND(U9<>"",E9<>U9),"区域异常 ",""))
A10: R009 | B10: 鲁A12345 | C10: C001 | D10: 46292.417 | E10: 济南 | F10: 42.5 | G10: 300 | H10: 92 | I10: 13600 | J10: =IF(COUNTIF(节假日表!$A$2:$A$100,INT(D10)),"节","") | K10: =IF(OR(HOUR(D10)>=参数配置!$B$4,HOUR(D10)<参数配置!$B$5),"夜","") | L10: =IFERROR(MAXIFS($I$2:$I$21,$B$2:$B$21,B10,$D$2:$D$21,"<"&D10),0) | M10: =IF(L10=0,"",I10-L10) | N10: =IF(M10="","",F10/M10*100) | O10: =COUNTIFS($B$2:$B$21,B10,$D$2:$D$21,">="&D10-1)-COUNTIFS($B$2:$B$21,B10,$D$2:$D$21,">"&D10+1) | P10: =IFERROR(VLOOKUP(C10,油卡基础!$A$2:$B$21,2,FALSE),"") | Q10: =IFERROR(VLOOKUP(B10,车辆基础!$A$2:$F$21,5,FALSE),"") | R10: =IFERROR(VLOOKUP(B10,车辆基础!$A$2:$F$21,6,FALSE),"") | S10: =IFERROR(VLOOKUP(C10,油卡基础!$A$2:$D$21,3,FALSE),"") | T10: =SUMIFS($G$2:$G$21,$B$2:$B$21,B10,INT($D$2:$D$21),INT(D10)) | U10: =IFERROR(VLOOKUP(B10,车辆基础!$A$2:$F$21,4,FALSE),"") | V10: =IF(OR(O10>=参数配置!$B$2,AND(N10<>"",Q10<>"",N10>Q10*(1+参数配置!$B$3/100)),OR(J10="节",K10="夜"),AND(G10<>"",S10<>"",G10>=S10),AND(P10<>"",P10<>B10),AND(U10<>"",E10<>U10)),"预警","") | W10: =IF(V10="预警",IF(OR(AND(P10<>"",P10<>B10),AND(N10<>"",Q10<>"",N10>Q10*(1+参数配置!$B$3/100))),"高","中"),"") | X10: =TRIM(IF(O10>=参数配置!$B$2,"高频 ","")&IF(AND(N10<>"",Q10<>"",N10>Q10*(1+参数配置!$B$3/100)),"油耗超标 ","")&IF(OR(J10="节",K10="夜"),"时段/节假日 ","")&IF(AND(G10<>"",S10<>"",G10>=S10),"超额度 ","")&IF(AND(P10<>"",P10<>B10),"车辆不匹配 ","")&IF(AND(U10<>"",E10<>U10),"区域异常 ",""))
A11: R010 | B11: 鲁A12345 | C11: C001 | D11: 46294.979 | E11: 济南 | F11: 42.5 | G11: 300 | H11: 92 | I11: 14100 | J11: =IF(COUNTIF(节假日表!$A$2:$A$100,INT(D11)),"节","") | K11: =IF(OR(HOUR(D11)>=参数配置!$B$4,HOUR(D11)<参数配置!$B$5),"夜","") | L11: =IFERROR(MAXIFS($I$2:$I$21,$B$2:$B$21,B11,$D$2:$D$21,"<"&D11),0) | M11: =IF(L11=0,"",I11-L11) | N11: =IF(M11="","",F11/M11*100) | O11: =COUNTIFS($B$2:$B$21,B11,$D$2:$D$21,">="&D11-1)-COUNTIFS($B$2:$B$21,B11,$D$2:$D$21,">"&D11+1) | P11: =IFERROR(VLOOKUP(C11,油卡基础!$A$2:$B$21,2,FALSE),"") | Q11: =IFERROR(VLOOKUP(B11,车辆基础!$A$2:$F$21,5,FALSE),"") | R11: =IFERROR(VLOOKUP(B11,车辆基础!$A$2:$F$21,6,FALSE),"") | S11: =IFERROR(VLOOKUP(C11,油卡基础!$A$2:$D$21,3,FALSE),"") | T11: =SUMIFS($G$2:$G$21,$B$2:$B$21,B11,INT($D$2:$D$21),INT(D11)) | U11: =IFERROR(VLOOKUP(B11,车辆基础!$A$2:$F$21,4,FALSE),"") | V11: =IF(OR(O11>=参数配置!$B$2,AND(N11<>"",Q11<>"",N11>Q11*(1+参数配置!$B$3/100)),OR(J11="节",K11="夜"),AND(G11<>"",S11<>"",G11>=S11),AND(P11<>"",P11<>B11),AND(U11<>"",E11<>U11)),"预警","") | W11: =IF(V11="预警",IF(OR(AND(P11<>"",P11<>B11),AND(N11<>"",Q11<>"",N11>Q11*(1+参数配置!$B$3/100))),"高","中"),"") | X11: =TRIM(IF(O11>=参数配置!$B$2,"高频 ","")&IF(AND(N11<>"",Q11<>"",N11>Q11*(1+参数配置!$B$3/100)),"油耗超标 ","")&IF(OR(J11="节",K11="夜"),"时段/节假日 ","")&IF(AND(G11<>"",S11<>"",G11>=S11),"超额度 ","")&IF(AND(P11<>"",P11<>B11),"车辆不匹配 ","")&IF(AND(U11<>"",E11<>U11),"区域异常 ",""))
A12: R011 | B12: 鲁A12345 | C12: C001 | D12: 46297.417 | E12: 济南 | F12: 42.5 | G12: 300 | H12: 92 | I12: 14600 | J12: =IF(COUNTIF(节假日表!$A$2:$A$100,INT(D12)),"节","") | K12: =IF(OR(HOUR(D12)>=参数配置!$B$4,HOUR(D12)<参数配置!$B$5),"夜","") | L12: =IFERROR(MAXIFS($I$2:$I$21,$B$2:$B$21,B12,$D$2:$D$21,"<"&D12),0) | M12: =IF(L12=0,"",I12-L12) | N12: =IF(M12="","",F12/M12*100) | O12: =COUNTIFS($B$2:$B$21,B12,$D$2:$D$21,">="&D12-1)-COUNTIFS($B$2:$B$21,B12,$D$2:$D$21,">"&D12+1) | P12: =IFERROR(VLOOKUP(C12,油卡基础!$A$2:$B$21,2,FALSE),"") | Q12: =IFERROR(VLOOKUP(B12,车辆基础!$A$2:$F$21,5,FALSE),"") | R12: =IFERROR(VLOOKUP(B12,车辆基础!$A$2:$F$21,6,FALSE),"") | S12: =IFERROR(VLOOKUP(C12,油卡基础!$A$2:$D$21,3,FALSE),"") | T12: =SUMIFS($G$2:$G$21,$B$2:$B$21,B12,INT($D$2:$D$21),INT(D12)) | U12: =IFERROR(VLOOKUP(B12,车辆基础!$A$2:$F$21,4,FALSE),"") | V12: =IF(OR(O12>=参数配置!$B$2,AND(N12<>"",Q12<>"",N12>Q12*(1+参数配置!$B$3/100)),OR(J12="节",K12="夜"),AND(G12<>"",S12<>"",G12>=S12),AND(P12<>"",P12<>B12),AND(U12<>"",E12<>U12)),"预警","") | W12: =IF(V12="预警",IF(OR(AND(P12<>"",P12<>B12),AND(N12<>"",Q12<>"",N12>Q12*(1+参数配置!$B$3/100))),"高","中"),"") | X12: =TRIM(IF(O12>=参数配置!$B$2,"高频 ","")&IF(AND(N12<>"",Q12<>"",N12>Q12*(1+参数配置!$B$3/100)),"油耗超标 ","")&IF(OR(J12="节",K12="夜"),"时段/节假日 ","")&IF(AND(G12<>"",S12<>"",G12>=S12),"超额度 ","")&IF(AND(P12<>"",P12<>B12),"车辆不匹配 ","")&IF(AND(U12<>"",E12<>U12),"区域异常 ",""))
A13: R012 | B13: 鲁A12345 | C13: C001 | D13: 46299.417 | E13: 济南 | F13: 42.5 | G13: 3000 | H13: 92 | I13: 15100 | J13: =IF(COUNTIF(节假日表!$A$2:$A$100,INT(D13)),"节","") | K13: =IF(OR(HOUR(D13)>=参数配置!$B$4,HOUR(D13)<参数配置!$B$5),"夜","") | L13: =IFERROR(MAXIFS($I$2:$I$21,$B$2:$B$21,B13,$D$2:$D$21,"<"&D13),0) | M13: =IF(L13=0,"",I13-L13) | N13: =IF(M13="","",F13/M13*100) | O13: =COUNTIFS($B$2:$B$21,B13,$D$2:$D$21,">="&D13-1)-COUNTIFS($B$2:$B$21,B13,$D$2:$D$21,">"&D13+1) | P13: =IFERROR(VLOOKUP(C13,油卡基础!$A$2:$B$21,2,FALSE),"") | Q13: =IFERROR(VLOOKUP(B13,车辆基础!$A$2:$F$21,5,FALSE),"") | R13: =IFERROR(VLOOKUP(B13,车辆基础!$A$2:$F$21,6,FALSE),"") | S13: =IFERROR(VLOOKUP(C13,油卡基础!$A$2:$D$21,3,FALSE),"") | T13: =SUMIFS($G$2:$G$21,$B$2:$B$21,B13,INT($D$2:$D$21),INT(D13)) | U13: =IFERROR(VLOOKUP(B13,车辆基础!$A$2:$F$21,4,FALSE),"") | V13: =IF(OR(O13>=参数配置!$B$2,AND(N13<>"",Q13<>"",N13>Q13*(1+参数配置!$B$3/100)),OR(J13="节",K13="夜"),AND(G13<>"",S13<>"",G13>=S13),AND(P13<>"",P13<>B13),AND(U13<>"",E13<>U13)),"预警","") | W13: =IF(V13="预警",IF(OR(AND(P13<>"",P13<>B13),AND(N13<>"",Q13<>"",N13>Q13*(1+参数配置!$B$3/100))),"高","中"),"") | X13: =TRIM(IF(O13>=参数配置!$B$2,"高频 ","")&IF(AND(N13<>"",Q13<>"",N13>Q13*(1+参数配置!$B$3/100)),"油耗超标 ","")&IF(OR(J13="节",K13="夜"),"时段/节假日 ","")&IF(AND(G13<>"",S13<>"",G13>=S13),"超额度 ","")&IF(AND(P13<>"",P13<>B13),"车辆不匹配 ","")&IF(AND(U13<>"",E13<>U13),"区域异常 ",""))
... A21: R020 | B21: 鲁C34567 | C21: C003 | D21: 46291.375 | E21: 烟台 | F21: 52 | G21: 360 | H21: 92 | I21: 31650 | J21: =IF(COUNTIF(节假日表!$A$2:$A$100,INT(D21)),"节","") | K21: =IF(OR(HOUR(D21)>=参数配置!$B$4,HOUR(D21)<参数配置!$B$5),"夜","") | L21: =IFERROR(MAXIFS($I$2:$I$21,$B$2:$B$21,B21,$D$2:$D$21,"<"&D21),0) | M21: =IF(L21=0,"",I21-L21) | N21: =IF(M21="","",F21/M21*100) | O21: =COUNTIFS($B$2:$B$21,B21,$D$2:$D$21,">="&D21-1)-COUNTIFS($B$2:$B$21,B21,$D$2:$D$21,">"&D21+1) | P21: =IFERROR(VLOOKUP(C21,油卡基础!$A$2:$B$21,2,FALSE),"") | Q21: =IFERROR(VLOOKUP(B21,车辆基础!$A$2:$F$21,5,FALSE),"") | R21: =IFERROR(VLOOKUP(B21,车辆基础!$A$2:$F$21,6,FALSE),"") | S21: =IFERROR(VLOOKUP(C21,油卡基础!$A$2:$D$21,3,FALSE),"") | T21: =SUMIFS($G$2:$G$21,$B$2:$B$21,B21,INT($D$2:$D$21),INT(D21)) | U21: =IFERROR(VLOOKUP(B21,车辆基础!$A$2:$F$21,4,FALSE),"") | V21: =IF(OR(O21>=参数配置!$B$2,AND(N21<>"",Q21<>"",N21>Q21*(1+参数配置!$B$3/100)),OR(J21="节",K21="夜"),AND(G21<>"",S21<>"",G21>=S21),AND(P21<>"",P21<>B21),AND(U21<>"",E21<>U21)),"预警","") | W21: =IF(V21="预警",IF(OR(AND(P21<>"",P21<>B21),AND(N21<>"",Q21<>"",N21>Q21*(1+参数配置!$B$3/100))),"高","中"),"") | X21: =TRIM(IF(O21>=参数配置!$B$2,"高频 ","")&IF(AND(N21<>"",Q21<>"",N21>Q21*(1+参数配置!$B$3/100)),"油耗超标 ","")&IF(OR(J21="节",K21="夜"),"时段/节假日 ","")&IF(AND(G21<>"",S21<>"",G21>=S21),"超额度 ","")&IF(AND(P21<>"",P21<>B21),"车辆不匹配 ","")&IF(AND(U21<>"",E21<>U21),"区域异常 ",""))

Sheet 预警汇总
A1: 指标 | B1: 值 | C1: 说明
A2: 预警总数 | B2: =COUNTIF(加油记录!V2:V21,"预警") | C2: 全部命中记录数
A3: 高危数 | B3: =COUNTIF(加油记录!W2:W21,"高") | C3: 级别=高的记录数
A4: 中危数 | B4: =COUNTIF(加油记录!W2:W21,"中") | C4: 级别=中的记录数
A5: 规则命中-高频 | B5: =COUNTIF(加油记录!X2:X21,"*高频*") | C5: 异常类型含「高频」
A6: 规则命中-油耗超标 | B6: =COUNTIF(加油记录!X2:X21,"*油耗超标*") | C6: 异常类型含「油耗超标」
A7: 规则命中-时段/节假日 | B7: =COUNTIF(加油记录!X2:X21,"*时段/节假日*") | C7: 异常类型含「时段/节假日」
A8: 规则命中-超额度 | B8: =COUNTIF(加油记录!X2:X21,"*超额度*") | C8: 异常类型含「超额度」
A9: 规则命中-车辆不匹配 | B9: =COUNTIF(加油记录!X2:X21,"*车辆不匹配*") | C9: 异常类型含「车辆不匹配」
A10: 规则命中-区域异常 | B10: =COUNTIF(加油记录!X2:X21,"*区域异常*") | C10: 异常类型含「区域异常」
A11: （按分管领导维度汇总见「分管领导清单」）

Sheet 分管领导清单
A1: 分管领导 | B1: 预警条数(本表率) | C1: 说明
A2: 张总 | B2: =COUNTIFS(加油记录!R2:R21,"张总",加油记录!V2:V21,"预警") | C2: 模拟推送对象
A3: 李总 | B3: =COUNTIFS(加油记录!R2:R21,"李总",加油记录!V2:V21,"预警") | C3: 模拟推送对象
A4: 王总 | B4: =COUNTIFS(加油记录!R2:R21,"王总",加油记录!V2:V21,"预警") | C4: 模拟推送对象
A5: （真实企微/邮件推送为生产版功能）
